BEGIN:VCALENDAR
PRODID:-//eluceo/ical//2.0/EN
VERSION:2.0
CALSCALE:GREGORIAN
BEGIN:VEVENT
UID:9655a476a009dca6b37242674736efbd
DTSTAMP:20260421T125145Z
SUMMARY:Edelkrebse in Kriens
DESCRIPTION:Wussten Sie\, dass in Krienser Gewässern Krebse leben? Sie sin
 d\nheimisch im Steinibach\, Schlundbach\, Schlimbach\, Schlossbach sowie i
 m\nBlattigweiher und im anschliessenden Gewerbekanal.\n
DTSTART:20220826T193000Z
DTEND:20220826T210000Z
LOCATION:Kreuzstrasse 51\, 6010 Kriens
GEO:47.019365;8.298805
X-APPLE-STRUCTURED-LOCATION;VALUE=URI;X-ADDRESS=Kreuzstrasse 51\, 6010 Krie
 ns;X-APPLE-RADIUS=49;X-TITLE=:geo:47.019365,8.298805
END:VEVENT
END:VCALENDAR
