BEGIN:VCALENDAR
PRODID:-//eluceo/ical//2.0/EN
VERSION:2.0
CALSCALE:GREGORIAN
BEGIN:VEVENT
UID:a20e0f9b45bfd34c02e0c0bbfc1c09cb
DTSTAMP:20260420T170947Z
SUMMARY:Traumhafte Stimmen der Sommernacht
DESCRIPTION:In der spätsommerlichen Abenddämmerung erklingen im unteren R
 ottal\nwunderbare Rufe einer heimlich lebenden Grillenart\, dem Weinhähnc
 hen.\nUnter der Leitung von Manfred Steffen machen wir uns auf die Pirsch.
 \n
DTSTART:20220819T181500Z
DTEND:20220819T203000Z
LOCATION:Untertor 4\, 4915 Sankt Urban
GEO:47.232588;7.838509
X-APPLE-STRUCTURED-LOCATION;VALUE=URI;X-ADDRESS=Untertor 4\, 4915 Sankt Urb
 an;X-APPLE-RADIUS=49;X-TITLE=:geo:47.232588,7.838509
END:VEVENT
END:VCALENDAR
