BEGIN:VCALENDAR
PRODID:-//eluceo/ical//2.0/EN
VERSION:2.0
CALSCALE:GREGORIAN
BEGIN:VEVENT
UID:e77d36d7d15178f6d871fee92bd6090b
DTSTAMP:20260421T224751Z
SUMMARY:Baumeisterin Waldameise
DESCRIPTION:Auf diesem Spaziergang\, der auch für Familien mit Kindern gee
 ignet\nist\, begeben wir uns mit dem Ameisenwächter Andreas Schnider an d
 en\nOrt des Geschehens.\n
DTSTART:20220730T113500Z
DTEND:20220730T151500Z
LOCATION:Bahnhof Entlebuch\, 6162 Entlebuch
GEO:46.993243;8.062187
X-APPLE-STRUCTURED-LOCATION;VALUE=URI;X-ADDRESS=Bahnhof Entlebuch\, 6162 En
 tlebuch;X-APPLE-RADIUS=49;X-TITLE=:geo:46.993243,8.062187
END:VEVENT
END:VCALENDAR
