BEGIN:VCALENDAR
PRODID:-//eluceo/ical//2.0/EN
VERSION:2.0
CALSCALE:GREGORIAN
BEGIN:VEVENT
UID:d9ee9d44c5a09b7238888b9024a0faa4
DTSTAMP:20260421T224938Z
SUMMARY:Der Neuntöter – ein Jäger\, der es dornig mag
DESCRIPTION:Der Neuntöter ist ein Symbol für dornenreiche Hecken geworden
 .\nFrüher sagte man ihm nach\, dass er immer zuerst neun Beutetiere auf\n
 die Dornen spiesse\, bevor er wieder eines verspeise.\n
DTSTART:20220703T102000Z
DTEND:20220703T153000Z
LOCATION:Bahnhof Schüpfheim\, 6170 Schüpfheim
GEO:46.950579;8.015241
X-APPLE-STRUCTURED-LOCATION;VALUE=URI;X-ADDRESS=Bahnhof Schüpfheim\, 6170 
 Schüpfheim;X-APPLE-RADIUS=49;X-TITLE=:geo:46.950579,8.015241
END:VEVENT
END:VCALENDAR
