BEGIN:VCALENDAR
PRODID:-//eluceo/ical//2.0/EN
VERSION:2.0
CALSCALE:GREGORIAN
BEGIN:VEVENT
UID:8db8c0106f86ae6c70ddb4da9c0be359
DTSTAMP:20260421T225024Z
SUMMARY:Auf Schlangenspuren am Lopper
DESCRIPTION:Schlangenbeobachtungen am Lopper sind ein Erlebnis! Bei günsti
 gem\nWetter können wir am Ufer des Alpnachersees Würfel- und Ringelnatte
 r\nentdecken.\n
DTSTART:20220626T080000Z
DTEND:20220626T120000Z
LOCATION:Windsurfer Parkplatz\, 6053 Alpnach
GEO:46.969697;8.309523
X-APPLE-STRUCTURED-LOCATION;VALUE=URI;X-ADDRESS=Windsurfer Parkplatz\, 6053
  Alpnach;X-APPLE-RADIUS=49;X-TITLE=:geo:46.969697,8.309523
END:VEVENT
END:VCALENDAR
