BEGIN:VCALENDAR
PRODID:-//eluceo/ical//2.0/EN
VERSION:2.0
CALSCALE:GREGORIAN
BEGIN:VEVENT
UID:5253d7ba8858e542924be70a5684d8fe
DTSTAMP:20260421T224743Z
SUMMARY:Arbeitseinsatz gegen Neophyten
DESCRIPTION:Invasive Neophyten breiten sich stark aus und verdrängen die\n
 einheimische Flora. An diesem Arbeitseinsatz setzen wir uns gemeinsam\ngeg
 en Neophyten wie Berufkraut oder Goldrute ein.\n
DTSTART:20220618T070000Z
DTEND:20220618T130000Z
LOCATION:Schulzentrum Chilefeld 1\, 6252 Dagmersellen
GEO:47.213837;7.990934
X-APPLE-STRUCTURED-LOCATION;VALUE=URI;X-ADDRESS=Schulzentrum Chilefeld 1\, 
 6252 Dagmersellen;X-APPLE-RADIUS=49;X-TITLE=:geo:47.213837,7.990934
END:VEVENT
END:VCALENDAR
