BEGIN:VCALENDAR
PRODID:-//eluceo/ical//2.0/EN
VERSION:2.0
CALSCALE:GREGORIAN
BEGIN:VEVENT
UID:2aeee95166bced263ac31e95255064f4
DTSTAMP:20260422T002040Z
SUMMARY:GEO-Tag der Natur auf der Rigi
DESCRIPTION:Am GEO-Tag der Natur wird in einem festgelegten Gebiet die\nArt
 envielfalt dokumentiert. Während 24 Stunden vom 18. bis 19. Juni\nuntersu
 chen Artexpertinnen und -experten\, welche Pflanzen-\, Pilz-\,\nFlechten- 
 und Tierarten im Untersuchungsperimeter.\n
DTSTART;VALUE=DATE:20220618
DTEND;VALUE=DATE:20220620
LOCATION:Haltestelle Rigi Staffel\, 6410 Arth
GEO:47.053684;8.474239
X-APPLE-STRUCTURED-LOCATION;VALUE=URI;X-ADDRESS=Haltestelle Rigi Staffel\, 
 6410 Arth;X-APPLE-RADIUS=49;X-TITLE=:geo:47.053684,8.474239
END:VEVENT
END:VCALENDAR
