BEGIN:VCALENDAR
PRODID:-//eluceo/ical//2.0/EN
VERSION:2.0
CALSCALE:GREGORIAN
BEGIN:VEVENT
UID:d808253c6f2627d035cb42da08888634
DTSTAMP:20260422T002152Z
SUMMARY:Nächtliches Glockenspiel entlang der Fontanne
DESCRIPTION:Entlang der Grossen Fontanne unterhalb von Doppleschwand ist ei
 n\nbedeutendes Vorkommen der seltenen Geburtshelferkröte\, auch\nGlöggli
 frosch genannt\, bekannt. Zusammen mit dem\nGlögglifrosch-Spezialisten Th
 omas Röösli machen wir uns auf die\nSuche.\n
DTSTART:20220615T180000Z
DTEND:20220615T203000Z
LOCATION:Parkplatz Fontanne-Pintli\, 6110 Wolhusen
GEO:47.029976;8.055437
X-APPLE-STRUCTURED-LOCATION;VALUE=URI;X-ADDRESS=Parkplatz Fontanne-Pintli\,
  6110 Wolhusen;X-APPLE-RADIUS=49;X-TITLE=:geo:47.029976,8.055437
END:VEVENT
END:VCALENDAR
