BEGIN:VCALENDAR
PRODID:-//eluceo/ical//2.0/EN
VERSION:2.0
CALSCALE:GREGORIAN
BEGIN:VEVENT
UID:1a9bf4b66375f86a8b319118e774e8b5
DTSTAMP:20260422T002023Z
SUMMARY:Frösche\, Eidechsen und Co.
DESCRIPTION:Im Naturlehrgebiet gibt es viel zu entdecken: Frösche tummeln 
 sich in\nden Weihern. Wenn es in der Vegetation raschelt\, könnte sich do
 rt\neine Ringelnatter oder eine Eidechse verstecken. Welche Tiere wir wohl
 \nentdecken werden?\n
DTSTART:20220611T100000Z
DTEND:20220611T153000Z
LOCATION:Torbogen Bahnhof Luzern\, 6003 Luzern
GEO:47.050747;8.310218
X-APPLE-STRUCTURED-LOCATION;VALUE=URI;X-ADDRESS=Torbogen Bahnhof Luzern\, 6
 003 Luzern;X-APPLE-RADIUS=49;X-TITLE=:geo:47.050747,8.310218
END:VEVENT
END:VCALENDAR
