BEGIN:VCALENDAR
PRODID:-//eluceo/ical//2.0/EN
VERSION:2.0
CALSCALE:GREGORIAN
BEGIN:VEVENT
UID:95c6ea27bf65bb14cafd55c862053258
DTSTAMP:20260422T002206Z
SUMMARY:Unbekannte Welt der Wasserwanzen
DESCRIPTION:Wasserwanzen sind weitgehend unbekannt und in der Wissenschaft 
 wenig\nbeachtet. Dennoch leben sie unter uns und sind ungemein faszinieren
 d.\nSie verlassen das Wasser nur\, wenn sie einen Ortswechsel vornehmen\no
 der zur Überwinterung an Land gehen.\n
DTSTART:20220611T080000Z
DTEND:20220611T093000Z
LOCATION:Naturlehrgebiet Buchwald\, 6218 Ettiswil
GEO:47.143878;8.030119
X-APPLE-STRUCTURED-LOCATION;VALUE=URI;X-ADDRESS=Naturlehrgebiet Buchwald\, 
 6218 Ettiswil;X-APPLE-RADIUS=49;X-TITLE=:geo:47.143878,8.030119
END:VEVENT
END:VCALENDAR
