BEGIN:VCALENDAR
PRODID:-//eluceo/ical//2.0/EN
VERSION:2.0
CALSCALE:GREGORIAN
BEGIN:VEVENT
UID:2c7f40fe8368e8a6d0c80c052b7c3d01
DTSTAMP:20260421T200530Z
SUMMARY:Abendliches Amphibienkonzert
DESCRIPTION:Die ehemaligen Schiessplätze auf der Luzerner Allmend wurden i
 m\nVerlauf der letzten zehn Jahre grossflächig umgestaltet. Heute ist es\
 nfür zahlreiche seltene Tier- und Pflanzenarten ein hochwertiger\nLebensr
 aum.\n
DTSTART:20220603T183000Z
DTEND:20220603T200000Z
LOCATION:Horwerstrasse 99\, 6005 Luzern
GEO:47.030639;8.304493
X-APPLE-STRUCTURED-LOCATION;VALUE=URI;X-ADDRESS=Horwerstrasse 99\, 6005 Luz
 ern;X-APPLE-RADIUS=49;X-TITLE=:geo:47.030639,8.304493
END:VEVENT
END:VCALENDAR
