BEGIN:VCALENDAR
PRODID:-//eluceo/ical//2.0/EN
VERSION:2.0
CALSCALE:GREGORIAN
BEGIN:VEVENT
UID:1fc8a5bf626af7c8c4bdeab7ec9e97ef
DTSTAMP:20260422T002151Z
SUMMARY:Fledermäuse – nächtliche Flugakrobaten
DESCRIPTION:Fledermäuse fliegen so elegant wie Vögel. Aber damit hören d
 ie\nGemeinsamkeiten auch schon auf. Wir besuchen die Kapelle St. Ottilien\
 ,\nwo ein grosser Trupp Grosser Mausohr-Weibchen übersommert.\n
DTSTART:20220521T170000Z
DTEND:20220521T200000Z
LOCATION:Sankt Ottilien 3\, 6018 Buttisholz
GEO:47.101776;8.099450
X-APPLE-STRUCTURED-LOCATION;VALUE=URI;X-ADDRESS=Sankt Ottilien 3\, 6018 But
 tisholz;X-APPLE-RADIUS=49;X-TITLE=:geo:47.101776,8.099450
END:VEVENT
END:VCALENDAR
