BEGIN:VCALENDAR
PRODID:-//eluceo/ical//2.0/EN
VERSION:2.0
CALSCALE:GREGORIAN
BEGIN:VEVENT
UID:5c3e8e793f895a2840dfc5381e03eb33
DTSTAMP:20260422T002151Z
SUMMARY:Gefiederte Mitbewohner im Siedlungsraum
DESCRIPTION:Welches sind die häufigsten Vogelarten im Siedlungsraum und wi
 e\nlassen Sie sich erkennen? An diesem Quartierspaziergang von der\nHubelm
 att bis zur Allmend können Sie das abendliche Vogelkonzert\ngeniessen.\n
DTSTART:20220520T170000Z
DTEND:20220520T183000Z
LOCATION:Bushaltestelle Hubelmatt\, 6005 Luzern
GEO:47.036503;8.308185
X-APPLE-STRUCTURED-LOCATION;VALUE=URI;X-ADDRESS=Bushaltestelle Hubelmatt\, 
 6005 Luzern;X-APPLE-RADIUS=49;X-TITLE=:geo:47.036503,8.308185
END:VEVENT
END:VCALENDAR
