BEGIN:VCALENDAR
PRODID:-//eluceo/ical//2.0/EN
VERSION:2.0
CALSCALE:GREGORIAN
BEGIN:VEVENT
UID:a0b826cff4852b1b9f8b5b500fbe6dec
DTSTAMP:20260422T001901Z
SUMMARY:Vögel beobachten im Siedlungsraum
DESCRIPTION:Wie viele Vogelarten kann man vor der eigenen Haustüre sehen? 
 Felix\nCaduff dokumentiert in diesem Bildervortrag\, wie gross die Vielfal
 t\nder Vogelarten auch im Siedlungsraum sein kann.\n
DTSTART:20220518T173000Z
DTEND:20220518T190000Z
LOCATION:Kasernenplatz 6\, 6003 Luzern
GEO:47.051712;8.300926
X-APPLE-STRUCTURED-LOCATION;VALUE=URI;X-ADDRESS=Kasernenplatz 6\, 6003 Luze
 rn;X-APPLE-RADIUS=49;X-TITLE=:geo:47.051712,8.300926
END:VEVENT
END:VCALENDAR
