BEGIN:VCALENDAR
PRODID:-//eluceo/ical//2.0/EN
VERSION:2.0
CALSCALE:GREGORIAN
BEGIN:VEVENT
UID:b8009df09b4cbc7d37a13794ac949ba3
DTSTAMP:20260422T002023Z
SUMMARY:Dem Frühling auf der Spur
DESCRIPTION:An diesem Familienanlass gehen wir gemeinsam auf Spurensuche de
 s\nFrühlings und entdecken einzigartige Pflanzen und Tiere.\n
DTSTART:20220511T113000Z
DTEND:20220511T140000Z
LOCATION:Naturlehrgebiet Buchwald\, 6218 Ettiswil
GEO:47.143878;8.030119
X-APPLE-STRUCTURED-LOCATION;VALUE=URI;X-ADDRESS=Naturlehrgebiet Buchwald\, 
 6218 Ettiswil;X-APPLE-RADIUS=49;X-TITLE=:geo:47.143878,8.030119
END:VEVENT
END:VCALENDAR
