BEGIN:VCALENDAR
PRODID:-//eluceo/ical//2.0/EN
VERSION:2.0
CALSCALE:GREGORIAN
BEGIN:VEVENT
UID:1cccc9dde640733deb40a4fe39c473c0
DTSTAMP:20260422T002151Z
SUMMARY:Landwirtschaft und Ökologie? Ein Beispiel
DESCRIPTION:Die Familie Hunkeler bewirtschaftet den Hof Ronmühle am Rand v
 on\nSchötz. Speziell wichtig ist der Bauernfamilie\, Artenvielfalt in die
 \nProduktionsfläche zu integrieren.\n
DTSTART:20220507T110000Z
DTEND:20220507T140000Z
LOCATION:Grosse Moosstrasse\, 6242 Wauwil
GEO:47.183641;8.018297
X-APPLE-STRUCTURED-LOCATION;VALUE=URI;X-ADDRESS=Grosse Moosstrasse\, 6242 W
 auwil;X-APPLE-RADIUS=49;X-TITLE=:geo:47.183641,8.018297
END:VEVENT
END:VCALENDAR
