BEGIN:VCALENDAR
PRODID:-//eluceo/ical//2.0/EN
VERSION:2.0
CALSCALE:GREGORIAN
BEGIN:VEVENT
UID:917b43f217d2c73ef22e754bf6d1eca8
DTSTAMP:20260422T020836Z
SUMMARY:Frühlingsreise Neusiedler See
DESCRIPTION:Auf dieser Reise geht es an den Neusiedlersee\, wo mehr als 350
 \nVogelarten nachgewiesen sind. Es ist damit eines der attraktivsten\norni
 thologischen Reiseziele in Mitteleuropa.\n
DTSTART;VALUE=DATE:20220423
DTEND;VALUE=DATE:20220430
END:VEVENT
END:VCALENDAR
