BEGIN:VCALENDAR
PRODID:-//eluceo/ical//2.0/EN
VERSION:2.0
CALSCALE:GREGORIAN
BEGIN:VEVENT
UID:be1b0453420228542f28f81bacfc5e56
DTSTAMP:20260422T020830Z
SUMMARY:Morgenwanderung zu Feldlerchen und Brachen
DESCRIPTION:Auf einem 6 km langen Rundgang machen wir uns auf zu bunten Bra
 chen\nund wertvollen Naturnischen in der Feldflur. Dabei erfahren wir\nSpa
 nnendes aus dem Leben des Vogels des Jahres 2022.\n
DTSTART:20220410T064500Z
DTEND:20220410T103000Z
LOCATION:Bushaltestelle Krone\, 6145 Fischbach
GEO:47.157548;7.906988
X-APPLE-STRUCTURED-LOCATION;VALUE=URI;X-ADDRESS=Bushaltestelle Krone\, 6145
  Fischbach;X-APPLE-RADIUS=49;X-TITLE=:geo:47.157548,7.906988
END:VEVENT
END:VCALENDAR
