BEGIN:VCALENDAR
PRODID:-//eluceo/ical//2.0/EN
VERSION:2.0
CALSCALE:GREGORIAN
BEGIN:VEVENT
UID:dc582ff4c0f6a250323a79290c9a6b63
DTSTAMP:20260422T015523Z
SUMMARY:Exkursion ins Eschenbacher Moos
DESCRIPTION:Das Naturschutzgebiet Eschenbacher Moos ist ein kleinstrukturie
 rtes\nWeihergebiet. Auf der Exkursion erhalten wir einen Einblick in die\n
 Pflege dieses kleinen Juwels mit Erfolgsgeschichten und Knacknüssen\nvers
 chiedenster Art.\n
DTSTART:20220403T070000Z
DTEND:20220403T090000Z
LOCATION:Mooswald\, 6274 Eschenbach
GEO:47.124434;8.309394
X-APPLE-STRUCTURED-LOCATION;VALUE=URI;X-ADDRESS=Mooswald\, 6274 Eschenbach;
 X-APPLE-RADIUS=49;X-TITLE=:geo:47.124434,8.309394
END:VEVENT
END:VCALENDAR
