BEGIN:VCALENDAR
PRODID:-//eluceo/ical//2.0/EN
VERSION:2.0
CALSCALE:GREGORIAN
BEGIN:VEVENT
UID:bd5debfcb32d877f70fd83bef9c30dd1
DTSTAMP:20260421T200934Z
SUMMARY:Kiebitzbalz in der Wauwiler Ebene
DESCRIPTION:Knapp ein Viertel des Schweizer Kiebitzbestands brütet in der\
 nWauwiler Ebene. Dort führt die Vogelwarte seit 2005 ein\nwissenschaftlic
 h begleitetes Projekt zur Förderung des Kiebitzes\ndurch. Die Exkursion f
 indet zur Zeit der Balz statt.\n
DTSTART:20220403T060000Z
DTEND:20220403T083000Z
LOCATION:Grosse Moosstrasse\, 6242 Wauwil
GEO:47.183641;8.018297
X-APPLE-STRUCTURED-LOCATION;VALUE=URI;X-ADDRESS=Grosse Moosstrasse\, 6242 W
 auwil;X-APPLE-RADIUS=49;X-TITLE=:geo:47.183641,8.018297
END:VEVENT
END:VCALENDAR
