BEGIN:VCALENDAR
PRODID:-//eluceo/ical//2.0/EN
VERSION:2.0
CALSCALE:GREGORIAN
BEGIN:VEVENT
UID:d085a4f6989b875ec11c89a8fc78ac20
DTSTAMP:20260421T185214Z
SUMMARY:Besenbinden – ein altes Handwerk
DESCRIPTION:Besenbinden gehörte zu den Arbeiten während der kalten Jahres
 zeit.\nHeute kauft man billige\, importierte\, oft schlecht gebundene Bese
 n\,\nobwohl wir in unseren Wäldern genügend Materialien für die\nProduk
 tion heimischer Besen vorfinden. An diesem Nachmit\n
DTSTART:20220326T130000Z
DTEND:20220326T163000Z
LOCATION:Hofmatt 2\, 6105 Malters
GEO:47.035169;8.157136
X-APPLE-STRUCTURED-LOCATION;VALUE=URI;X-ADDRESS=Hofmatt 2\, 6105 Malters;X-
 APPLE-RADIUS=49;X-TITLE=:geo:47.035169,8.157136
END:VEVENT
END:VCALENDAR
