BEGIN:VCALENDAR
PRODID:-//eluceo/ical//2.0/EN
VERSION:2.0
CALSCALE:GREGORIAN
BEGIN:VEVENT
UID:8efb34fa6ea9f9514a283fb786cbaca3
DTSTAMP:20260422T020539Z
SUMMARY:Ökologische Infrastruktur\, Biodiversitätsstrategie – Ein Über
 blick für Luzern
DESCRIPTION:Die ökologische Infrastruktur ist essentiell für den Lebensra
 um von\nTieren und Pflanzen.\n
DTSTART:20220317T190000Z
DTEND:20220317T203000Z
LOCATION:Kasernenplatz 6\, 6003 Luzern
GEO:47.051712;8.300926
X-APPLE-STRUCTURED-LOCATION;VALUE=URI;X-ADDRESS=Kasernenplatz 6\, 6003 Luze
 rn;X-APPLE-RADIUS=49;X-TITLE=:geo:47.051712,8.300926
END:VEVENT
END:VCALENDAR
