BEGIN:VCALENDAR
PRODID:-//eluceo/ical//2.0/EN
VERSION:2.0
CALSCALE:GREGORIAN
BEGIN:VEVENT
UID:06e5f71050cccad889673f8c40ae8954
DTSTAMP:20260422T020455Z
SUMMARY:Von den Dinosauriern zu den modernen Vögeln
DESCRIPTION:Stammen Vögel von Dinosauriern ab? Wie haben sich die Federn\n
 entwickelt? Wie haben sich die Vögel über die ganze Erde verbreitet?\nDi
 es sind spannende Fragen\, über die erst in den letzten Jahrzehnten\nteil
 weise Antworten gefunden wurden.\n
DTSTART:20220217T190000Z
DTEND:20220217T203000Z
LOCATION:Kasernenplatz 6\, 6003 Luzern
GEO:47.051712;8.300926
X-APPLE-STRUCTURED-LOCATION;VALUE=URI;X-ADDRESS=Kasernenplatz 6\, 6003 Luze
 rn;X-APPLE-RADIUS=49;X-TITLE=:geo:47.051712,8.300926
END:VEVENT
END:VCALENDAR
