BEGIN:VCALENDAR
PRODID:-//eluceo/ical//2.0/EN
VERSION:2.0
CALSCALE:GREGORIAN
BEGIN:VEVENT
UID:c5278d2fdc231a82fc9f63798cb0604d
DTSTAMP:20260422T020321Z
SUMMARY:Ornithologischer Grundkurs 2022\, Malters
DESCRIPTION:Lernen Sie die Vogelwelt unserer Region kennen!\n
DTSTART:20220207T190000Z
DTEND:20220207T203000Z
END:VEVENT
END:VCALENDAR
