BEGIN:VCALENDAR
PRODID:-//eluceo/ical//2.0/EN
VERSION:2.0
CALSCALE:GREGORIAN
BEGIN:VEVENT
UID:6b02548798b07b122cd58da02c18df6d
DTSTAMP:20260422T041805Z
SUMMARY:Der Neuntöter im Winterquartier – Stammgast in der Savanne
DESCRIPTION:Neuntöter im Winterquartier © Bruno Bruderer\n
DTSTART:20220120T190000Z
DTEND:20220120T203000Z
END:VEVENT
END:VCALENDAR
