BEGIN:VCALENDAR
PRODID:-//eluceo/ical//2.0/EN
VERSION:2.0
CALSCALE:GREGORIAN
BEGIN:VEVENT
UID:f60c9af2345d6e79109bbfc574f43f92
DTSTAMP:20260421T214724Z
SUMMARY:Ornithologischer Grundkurs 2022\, Sursee
DESCRIPTION:BirdLife Luzern\, ein Kantonalverband von BirdLife Schweiz\, f
 ührt von\nJanuar bis Mai 2022 in Zusammenarbeit mit dem Ornithologischen 
 Verein\nRegion Sursee (OVS) einen ornitholo­gischen Grundkurs durch.\n
DTSTART;VALUE=DATE:20220118
DTEND;VALUE=DATE:20220119
END:VEVENT
END:VCALENDAR
