BEGIN:VCALENDAR
PRODID:-//eluceo/ical//2.0/EN
VERSION:2.0
CALSCALE:GREGORIAN
BEGIN:VEVENT
UID:a15dedea293b561f1936329a7e69be0c
DTSTAMP:20260422T035348Z
SUMMARY:Ornithologischer Grundkurs 2022\, Stadt Luzern
DESCRIPTION:Amsel\, Drossel\, Fink und Star … – Lernen Sie Luzerns Vög
 el\nkennen!\n
DTSTART;VALUE=DATE:20220112
DTEND;VALUE=DATE:20220113
END:VEVENT
END:VCALENDAR
