BEGIN:VCALENDAR
PRODID:-//eluceo/ical//2.0/EN
VERSION:2.0
CALSCALE:GREGORIAN
BEGIN:VEVENT
UID:a160df47897c14b2511f58c378ff37af
DTSTAMP:20260422T034722Z
SUMMARY:Ornithologischer Grundkurs 2022\, Kriens
DESCRIPTION:BirdLife Luzern\, ein Kantonalverband von BirdLife Schweiz\, f
 ührt von\nJanuar bis Juni 2022 in Zusammenarbeit mit KriensNatur­ einen\
 nornithologischen Grundkurs durch.\n
DTSTART;VALUE=DATE:20220118
DTEND;VALUE=DATE:20220119
END:VEVENT
END:VCALENDAR
