BEGIN:VCALENDAR
PRODID:-//eluceo/ical//2.0/EN
VERSION:2.0
CALSCALE:GREGORIAN
BEGIN:VEVENT
UID:1a2df105ef449e15b5c21f6b1ea8b626
DTSTAMP:20260422T035348Z
SUMMARY:3. Stunde der Wintervögel 
DESCRIPTION:Welche Vogelarten entdecken Sie am Futterhaus\, in Ihrem eigene
 n\nGarten\, am Fenster\, Balkon oder im Park? Finden Sie es heraus und\nz
 ählen Sie eine Stunde lang die Vögel.\n
DTSTART;VALUE=DATE:20220107
DTEND;VALUE=DATE:20220110
END:VEVENT
END:VCALENDAR
