BEGIN:VCALENDAR
PRODID:-//eluceo/ical//2.0/EN
VERSION:2.0
CALSCALE:GREGORIAN
BEGIN:VEVENT
UID:43e59be5d89f2dcfcc35e0309fdb042a
DTSTAMP:20260424T152738Z
SUMMARY:Saatgut-Tauschbörse 
DESCRIPTION:An der Saatgut-Tauschbörse wird Saatgut aus dem eigenen Garten
  oder\nzu viel gekauftes Bio-Saatgut getauscht. Die Teilnahme kostet nicht
 s\nund der Gedanken-Austausch mit anderen Interessierten ist immer\nspanne
 nd.\n
DTSTART:20220212T140000Z
DTEND:20220212T160000Z
LOCATION:Löwenplatz 11\, 6004 Luzern
GEO:47.057029;8.310948
X-APPLE-STRUCTURED-LOCATION;VALUE=URI;X-ADDRESS=Löwenplatz 11\, 6004 Luzer
 n;X-APPLE-RADIUS=49;X-TITLE=:geo:47.057029,8.310948
END:VEVENT
END:VCALENDAR
