BEGIN:VCALENDAR
PRODID:-//eluceo/ical//2.0/EN
VERSION:2.0
CALSCALE:GREGORIAN
BEGIN:VEVENT
UID:552cb27ce7c2fa7282e7ddf66c99e55a
DTSTAMP:20260422T001911Z
SUMMARY:Urobst mit Migrationshintergrund -  „verwildertes“ und „gezä
 hmtes“ Saatgut 
DESCRIPTION:Eine Pflanzen-Erkundung im Kapuzinergarten\n\nErstaunlich viele
  unserer „heimischen“ Obstgattungen haben\n„Migrationshintergrund“
 .\n
DTSTART:20220511T163000Z
DTEND:20220511T180000Z
LOCATION:Wesemlinstrasse 42\, 6006 Luzern
GEO:47.061598;8.313342
X-APPLE-STRUCTURED-LOCATION;VALUE=URI;X-ADDRESS=Wesemlinstrasse 42\, 6006 L
 uzern;X-APPLE-RADIUS=49;X-TITLE=:geo:47.061598,8.313342
END:VEVENT
END:VCALENDAR
