BEGIN:VCALENDAR
PRODID:-//eluceo/ical//2.0/EN
VERSION:2.0
CALSCALE:GREGORIAN
BEGIN:VEVENT
UID:57630ef861c52815d6735189baeffc3b
DTSTAMP:20260422T040349Z
SUMMARY:Repair Cafés Luzern - Neubad - Abgesagt!
DESCRIPTION:Reparieren schont Budget und Umwelt – gemeinsam und unentgelt
 lich\n
DTSTART:20220115T090000Z
DTEND:20220115T130000Z
LOCATION:Bireggstrasse 36\, 6003 Luzern
GEO:47.041412;8.307136
X-APPLE-STRUCTURED-LOCATION;VALUE=URI;X-ADDRESS=Bireggstrasse 36\, 6003 Luz
 ern;X-APPLE-RADIUS=49;X-TITLE=:geo:47.041412,8.307136
END:VEVENT
END:VCALENDAR
