BEGIN:VCALENDAR
PRODID:-//eluceo/ical//2.0/EN
VERSION:2.0
CALSCALE:GREGORIAN
BEGIN:VEVENT
UID:bfee01e7d5048cc9021153d4967716e9
DTSTAMP:20260421T210038Z
SUMMARY:Fermentieren: Herstellung und Verwendung
DESCRIPTION:Kochkurs in der neuen Burgrainküche: Fermentieren und Kochen m
 it den\nentstandenen Vorräten. Mmmh\, das schmeckt und ist äußerst gesu
 nd!\n
DTSTART:20221015T073000Z
DTEND:20221015T140000Z
LOCATION:Burgrain 20\, 6248 Alberswil
GEO:47.143378;7.996540
X-APPLE-STRUCTURED-LOCATION;VALUE=URI;X-ADDRESS=Burgrain 20\, 6248 Alberswi
 l;X-APPLE-RADIUS=49;X-TITLE=:geo:47.143378,7.996540
END:VEVENT
END:VCALENDAR
