BEGIN:VCALENDAR
PRODID:-//eluceo/ical//2.0/EN
VERSION:2.0
CALSCALE:GREGORIAN
BEGIN:VEVENT
UID:784a55f2aadbb54f23555ee94e8cf201
DTSTAMP:20260421T224938Z
SUMMARY:Pilatus Garten\, Experimentierfeld Permakultur
DESCRIPTION:Brigitta und Sandra führen uns durch ihren vielfältigen Perma
 kultur\nGarten.\n
DTSTART:20220827T120000Z
DTEND:20220827T143000Z
LOCATION:Ober-Hackenrain 1\, 6012 Obernau - Kriens
GEO:47.029235;8.259285
X-APPLE-STRUCTURED-LOCATION;VALUE=URI;X-ADDRESS=Ober-Hackenrain 1\, 6012 Ob
 ernau - Kriens;X-APPLE-RADIUS=49;X-TITLE=:geo:47.029235,8.259285
END:VEVENT
END:VCALENDAR
