BEGIN:VCALENDAR
PRODID:-//eluceo/ical//2.0/EN
VERSION:2.0
CALSCALE:GREGORIAN
BEGIN:VEVENT
UID:24737acd9984ae67462db4c133dcfed5
DTSTAMP:20260421T225025Z
SUMMARY:Insekten - Eine Wunderwelt für alle
DESCRIPTION:Sie lernen die wichtige Rolle der Insekten in unseren Gärten k
 ennen.\nNach dem Insekten-Nachmittag betrachten Sie die kleinen Lebewesen 
 mit\nanderen Augen!\n
DTSTART:20220625T110000Z
DTEND:20220625T150000Z
LOCATION:Musegg-Garten\, Ecke Luegislandegg und Dieboldschillingstrasse\, 6
 000 Luzern
GEO:47.054323;8.302021
X-APPLE-STRUCTURED-LOCATION;VALUE=URI;X-ADDRESS=Musegg-Garten\, Ecke Luegis
 landegg und Dieboldschillingstrasse\, 6000 Luzern;X-APPLE-RADIUS=49;X-TITL
 E=:geo:47.054323,8.302021
END:VEVENT
END:VCALENDAR
