BEGIN:VCALENDAR
PRODID:-//eluceo/ical//2.0/EN
VERSION:2.0
CALSCALE:GREGORIAN
BEGIN:VEVENT
UID:0619235551479c5ac12a55f59b9e13bf
DTSTAMP:20260422T002145Z
SUMMARY:Faszinierende Kräutervielfalt im Hausgarten
DESCRIPTION:Lernen Sie beim Gang durch den Garten verschiedene Kräuter und
  deren\nEigenschaften und Düfte\, aber auch deren Anwendungen kennen.\nPr
 axisnäher geht es nicht!\n
DTSTART:20220531T161500Z
DTEND:20220531T191500Z
LOCATION:Münzgasse 4\, 6102  Malters
GEO:47.037552;8.182888
X-APPLE-STRUCTURED-LOCATION;VALUE=URI;X-ADDRESS=Münzgasse 4\, 6102  Malter
 s;X-APPLE-RADIUS=49;X-TITLE=:geo:47.037552,8.182888
END:VEVENT
END:VCALENDAR
