BEGIN:VCALENDAR
PRODID:-//eluceo/ical//2.0/EN
VERSION:2.0
CALSCALE:GREGORIAN
BEGIN:VEVENT
UID:1e9f9a84772712e9a5f21127441afa21
DTSTAMP:20260425T010915Z
SUMMARY:Der Kapuzinergarten in den Jahreszeiten 
DESCRIPTION:BotanikLyrikKulinarik\n\nHerbstWunderPflanzenTüte: Kletterpfla
 nzen und Himmelsleitern – nach\noben ranken und Blau tanken ­- ein bota
 nischer\, literarischer\,\nkulinarischer Spaziergang durch den Kapuzinerga
 rten.\n
DTSTART:20221029T140000Z
DTEND:20221029T153000Z
LOCATION:Wesemlinstrasse 42\, 6006 Luzern
GEO:47.061598;8.313342
X-APPLE-STRUCTURED-LOCATION;VALUE=URI;X-ADDRESS=Wesemlinstrasse 42\, 6006 L
 uzern;X-APPLE-RADIUS=49;X-TITLE=:geo:47.061598,8.313342
END:VEVENT
END:VCALENDAR
