BEGIN:VCALENDAR
PRODID:-//eluceo/ical//2.0/EN
VERSION:2.0
CALSCALE:GREGORIAN
BEGIN:VEVENT
UID:4da925db98e6f6a34238b660b67c9db4
DTSTAMP:20260421T224841Z
SUMMARY:Der Kapuzinergarten in den Jahreszeiten 
DESCRIPTION:BotanikLyrikKulinarik\nSommerWunderPflanzenTüte: Bienenweiden 
 und Honigmeer –\nFutterpflanzen in voller Pracht - ein botanischer\, lit
 erarischer\,\nkulinarischer Spaziergang durch den Kapuzinergarten.\n
DTSTART:20220625T140000Z
DTEND:20220625T153000Z
LOCATION:Wesemlinstrasse 42\, 6006 Luzern
GEO:47.061598;8.313342
X-APPLE-STRUCTURED-LOCATION;VALUE=URI;X-ADDRESS=Wesemlinstrasse 42\, 6006 L
 uzern;X-APPLE-RADIUS=49;X-TITLE=:geo:47.061598,8.313342
END:VEVENT
END:VCALENDAR
