BEGIN:VCALENDAR
PRODID:-//eluceo/ical//2.0/EN
VERSION:2.0
CALSCALE:GREGORIAN
BEGIN:VEVENT
UID:bd2598a388b116d05cf7f7c1c4d87a2f
DTSTAMP:20260422T002024Z
SUMMARY:Der Kapuzinergarten in den Jahreszeiten
DESCRIPTION:BotanikLyrikKulinarik\nFrühlingsWunderPflanzenTüte: Es grünt
  so grün – biblisches\nGrünzeug und seine Grünkraft. Ein botanischer\
 , literarischer\,\nkulinarischer Spaziergang durch den Kapuzinergarten.\n
DTSTART:20220507T140000Z
DTEND:20220507T153000Z
LOCATION:Wesemlinstrasse 42\, 6006 Luzern
GEO:47.061598;8.313342
X-APPLE-STRUCTURED-LOCATION;VALUE=URI;X-ADDRESS=Wesemlinstrasse 42\, 6006 L
 uzern;X-APPLE-RADIUS=49;X-TITLE=:geo:47.061598,8.313342
END:VEVENT
END:VCALENDAR
