BEGIN:VCALENDAR
PRODID:-//eluceo/ical//2.0/EN
VERSION:2.0
CALSCALE:GREGORIAN
BEGIN:VEVENT
UID:40fbf7823de85ac768a492eb98ba5537
DTSTAMP:20260422T021134Z
SUMMARY:Der Kapuzinergarten in den Jahreszeiten
DESCRIPTION:BotanikLyrikKulinarik\n\nWinterWunderPflanzenTüte:\nDer Kälte
  trotzen – bei eisigem Klima hilft inneres Feuer\nein botanischer\, lite
 rarischer\, kulinarischer Spaziergang durch den\nKapuzinergarten.\n
DTSTART:20220129T150000Z
DTEND:20220129T163000Z
LOCATION:Wesemlinstrasse 42\, 6006 Luzern
GEO:47.061598;8.313342
X-APPLE-STRUCTURED-LOCATION;VALUE=URI;X-ADDRESS=Wesemlinstrasse 42\, 6006 L
 uzern;X-APPLE-RADIUS=49;X-TITLE=:geo:47.061598,8.313342
END:VEVENT
END:VCALENDAR
