BEGIN:VCALENDAR
PRODID:-//eluceo/ical//2.0/EN
VERSION:2.0
CALSCALE:GREGORIAN
BEGIN:VEVENT
UID:db1c842a9a3345664f31e25fb23da7e5
DTSTAMP:20260422T002147Z
SUMMARY:Mit der Sense: vom Mähen bis zum Dengeln
DESCRIPTION:Tageskurs mit dem charismatischen Fachmann Hansjörg von Känel
 .\nDarnach können alle mähen und dengeln!\n
DTSTART:20220514T070000Z
DTEND:20220514T133000Z
LOCATION:Burgrain 8\, 6248 Alberswil
GEO:47.143378;7.996540
X-APPLE-STRUCTURED-LOCATION;VALUE=URI;X-ADDRESS=Burgrain 8\, 6248 Alberswil
 ;X-APPLE-RADIUS=49;X-TITLE=:geo:47.143378,7.996540
END:VEVENT
END:VCALENDAR
