BEGIN:VCALENDAR
PRODID:-//eluceo/ical//2.0/EN
VERSION:2.0
CALSCALE:GREGORIAN
BEGIN:VEVENT
UID:775f4ee6f8d6d612b0eaef0ed28b5d9a
DTSTAMP:20260422T002039Z
SUMMARY:Saatgut selbst vermehren
DESCRIPTION:Alles um eigenes Saatgut zu züchten\, gewinnen und lagern. Saa
 tgut ist\nKulturgut!\n
DTSTART:20220514T070000Z
DTEND:20220514T140000Z
LOCATION:Ecke Luegislandegg und Dieboldschillingstrasse \, 6000  Luzern
GEO:47.054323;8.302021
X-APPLE-STRUCTURED-LOCATION;VALUE=URI;X-ADDRESS=Ecke Luegislandegg und Dieb
 oldschillingstrasse \, 6000  Luzern;X-APPLE-RADIUS=49;X-TITLE=:geo:47.0543
 23,8.302021
END:VEVENT
END:VCALENDAR
