BEGIN:VCALENDAR
PRODID:-//eluceo/ical//2.0/EN
VERSION:2.0
CALSCALE:GREGORIAN
BEGIN:VEVENT
UID:73a5fc4d89265b0c43fb0396d45c8e23
DTSTAMP:20260422T002207Z
SUMMARY:Ein Garten für vielfältiges Leben
DESCRIPTION:So kann dein Garten ein Ort für eine lebendige und vielfältig
 e Natur\nwerden!\nUrsula Sonderegger zeigt uns verschiedene Elemente des N
 aturgartens.\n
DTSTART:20220506T173000Z
DTEND:20220506T193000Z
LOCATION:Kloster Sursee\, Geuenseestr. 2a\, 6210  Sursee
GEO:47.174197;8.110891
X-APPLE-STRUCTURED-LOCATION;VALUE=URI;X-ADDRESS=Kloster Sursee\, Geuenseest
 r. 2a\, 6210  Sursee;X-APPLE-RADIUS=49;X-TITLE=:geo:47.174197,8.110891
END:VEVENT
END:VCALENDAR
