BEGIN:VCALENDAR
PRODID:-//eluceo/ical//2.0/EN
VERSION:2.0
CALSCALE:GREGORIAN
BEGIN:VEVENT
UID:997d9302e7702ba077c1b9e33058b545
DTSTAMP:20260422T002206Z
SUMMARY:Bokashi: fermentiertes Grüngut als Kompostalternative\, 3-teiliger
  Kurs
DESCRIPTION:Ursula Winistörfer zeigt\, wie Bokashi als wertvolle Bodenpfle
 ge\nhergestellt und eingesetzt wird.\n
DTSTART:20220503T161500Z
DTEND:20220503T184500Z
LOCATION:Münzgasse 4\, 6102 Malters
GEO:47.037552;8.182888
X-APPLE-STRUCTURED-LOCATION;VALUE=URI;X-ADDRESS=Münzgasse 4\, 6102 Malters
 ;X-APPLE-RADIUS=49;X-TITLE=:geo:47.037552,8.182888
END:VEVENT
END:VCALENDAR
