BEGIN:VCALENDAR
PRODID:-//eluceo/ical//2.0/EN
VERSION:2.0
CALSCALE:GREGORIAN
BEGIN:VEVENT
UID:db72bdbf01b2e04276094f0e6a939c3e
DTSTAMP:20260421T223447Z
SUMMARY:Terra preta: Pflanzenkohle\, selbst gemacht 2
DESCRIPTION:Herstellung eigener Pflanzenkohle mittels verschiedener\nPyroly
 severfahren. Alchemie zum Erleben!\n
DTSTART:20220910T070000Z
DTEND:20220910T140000Z
LOCATION:Emmenweidstr. 8a\, 6020 Emmenbrücke
GEO:47.074087;8.275377
X-APPLE-STRUCTURED-LOCATION;VALUE=URI;X-ADDRESS=Emmenweidstr. 8a\, 6020 Emm
 enbrücke;X-APPLE-RADIUS=49;X-TITLE=:geo:47.074087,8.275377
END:VEVENT
END:VCALENDAR
