BEGIN:VCALENDAR
PRODID:-//eluceo/ical//2.0/EN
VERSION:2.0
CALSCALE:GREGORIAN
BEGIN:VEVENT
UID:2d51b8b7079f8c99802d2b4d37ca35a9
DTSTAMP:20260422T020917Z
SUMMARY:Terra preta: Pflanzenkohle\, selbst gemacht
DESCRIPTION:Herstellung eigener Pflanzenkohle mittels verschiedener\nPyroly
 severfahren. Alchemie zum Erleben!\n
DTSTART:20220430T070000Z
DTEND:20220430T140000Z
LOCATION:Emmenweidstr. 8a\, 6020 Emmenbrücke
GEO:47.074087;8.275377
X-APPLE-STRUCTURED-LOCATION;VALUE=URI;X-ADDRESS=Emmenweidstr. 8a\, 6020 Emm
 enbrücke;X-APPLE-RADIUS=49;X-TITLE=:geo:47.074087,8.275377
END:VEVENT
END:VCALENDAR
