BEGIN:VCALENDAR
PRODID:-//eluceo/ical//2.0/EN
VERSION:2.0
CALSCALE:GREGORIAN
BEGIN:VEVENT
UID:5835776dfa37ec6f220694ec1dcfb1c9
DTSTAMP:20260422T015403Z
SUMMARY:Mein Balkon: ein Paradies
DESCRIPTION:Planung\, Gestaltung und Pflege der Balkonpflanzen während des
  ganzen\nJahres: ein Paradies für alle!\n
DTSTART:20220409T110000Z
DTEND:20220409T150000Z
LOCATION:Burgrain 20\, 6248 6298 Alberswil
GEO:47.143378;7.996540
X-APPLE-STRUCTURED-LOCATION;VALUE=URI;X-ADDRESS=Burgrain 20\, 6248 6298 Alb
 erswil;X-APPLE-RADIUS=49;X-TITLE=:geo:47.143378,7.996540
END:VEVENT
END:VCALENDAR
