BEGIN:VCALENDAR
PRODID:-//eluceo/ical//2.0/EN
VERSION:2.0
CALSCALE:GREGORIAN
BEGIN:VEVENT
UID:6d6c6a3cc6383fc5151f85a7d23daedf
DTSTAMP:20260422T020744Z
SUMMARY:Wildkräuter in der Küche\, Ernten ohne Säen
DESCRIPTION:Wildkräuter sind gesund. Wir pflücken\, kochen und degustiere
 n sie.\n
DTSTART:20220326T073000Z
DTEND:20220326T150000Z
LOCATION:Burgrain 20\, 6248 Alberswil
GEO:47.143378;7.996540
X-APPLE-STRUCTURED-LOCATION;VALUE=URI;X-ADDRESS=Burgrain 20\, 6248 Alberswi
 l;X-APPLE-RADIUS=49;X-TITLE=:geo:47.143378,7.996540
END:VEVENT
END:VCALENDAR
