BEGIN:VCALENDAR
PRODID:-//eluceo/ical//2.0/EN
VERSION:2.0
CALSCALE:GREGORIAN
BEGIN:VEVENT
UID:80acedbdc2d1982339d5b291252a9407
DTSTAMP:20260422T020214Z
SUMMARY:Kurs: Gemeinsam durchs biologische Gartenjahr (Teil B)
DESCRIPTION:Der Grundkurs ist ideal für alle Garten-Neulinge\, die wichtig
 e Basics\nlernen möchten.\n
DTSTART:20220329T144500Z
DTEND:20220329T171500Z
LOCATION:Münzgasse 4\, 6102 Malters
GEO:47.037552;8.182888
X-APPLE-STRUCTURED-LOCATION;VALUE=URI;X-ADDRESS=Münzgasse 4\, 6102 Malters
 ;X-APPLE-RADIUS=49;X-TITLE=:geo:47.037552,8.182888
END:VEVENT
END:VCALENDAR
