BEGIN:VCALENDAR
PRODID:-//eluceo/ical//2.0/EN
VERSION:2.0
CALSCALE:GREGORIAN
BEGIN:VEVENT
UID:7b25e943cf5713cb6e74e448d0eca75c
DTSTAMP:20260422T002022Z
SUMMARY:Pflanzen-Tauschbörse
DESCRIPTION:An der Pflanzentauschbörse können selber mitgebrachte Pflanze
 n\ngetauscht werden oder es können Pflanzen gegen eine kleine Spende\nerw
 orben werden. Vor der Börse lädt Bruder Paul zu einem Streifzug\ndurch d
 en Klostergarten.\n
DTSTART:20220514T113000Z
DTEND:20220514T140000Z
LOCATION:Wesemlinstrasse 42\, 6006 Luzern
GEO:47.061598;8.313342
X-APPLE-STRUCTURED-LOCATION;VALUE=URI;X-ADDRESS=Wesemlinstrasse 42\, 6006 L
 uzern;X-APPLE-RADIUS=49;X-TITLE=:geo:47.061598,8.313342
END:VEVENT
END:VCALENDAR
